BEGIN:VCALENDAR
VERSION:2.0
PRODID:-//Iconic Club - ECPv6.10.0//NONSGML v1.0//EN
CALSCALE:GREGORIAN
METHOD:PUBLISH
X-ORIGINAL-URL:https://iconic-club.com
X-WR-CALDESC:Évènements pour Iconic Club
REFRESH-INTERVAL;VALUE=DURATION:PT1H
X-Robots-Tag:noindex
X-PUBLISHED-TTL:PT1H
BEGIN:VTIMEZONE
TZID:Europe/Paris
BEGIN:DAYLIGHT
TZOFFSETFROM:+0100
TZOFFSETTO:+0200
TZNAME:CEST
DTSTART:20220327T010000
END:DAYLIGHT
BEGIN:STANDARD
TZOFFSETFROM:+0200
TZOFFSETTO:+0100
TZNAME:CET
DTSTART:20221030T010000
END:STANDARD
END:VTIMEZONE
BEGIN:VEVENT
DTSTART;TZID=Europe/Paris:20221204T140000
DTEND;TZID=Europe/Paris:20221204T220000
DTSTAMP:20260423T002350
CREATED:20221124T125708Z
LAST-MODIFIED:20230224T191812Z
UID:268-1670162400-1670191200@iconic-club.com
SUMMARY:COUPE DU MONDE - FRANCE vs POLOGNE - 1/8 de finale
DESCRIPTION:Coupe du monde 2022 : À la quête de la 3ème étoile ! \n\nComme dans les plus grands stades\, vous pouvez choisir vos places libres\, vos espaces privatisés\, vos espaces loges et découvrir nos différentes prestations afin de rendre ce moment de partage unique. \nPour nos offres de privatisations\, faites votre demande directement à nos équipes ! \n–             Demande  privatisation de tables \n–             Demande réservation en loge
URL:https://iconic-club.com/evenement/coupe-du-monde-1-8-e-final-edf/
CATEGORIES:Coupe du monde 2022
END:VEVENT
BEGIN:VEVENT
DTSTART;TZID=Europe/Paris:20221210T180000
DTEND;TZID=Europe/Paris:20221211T000000
DTSTAMP:20260423T002350
CREATED:20221204T175833Z
LAST-MODIFIED:20230224T191857Z
UID:1770-1670695200-1670716800@iconic-club.com
SUMMARY:COUPE DU MONDE - FRANCE vs ANGLETERRE - 1/4 de finale
DESCRIPTION:Coupe du monde 2022 : À la quête de la 3ème étoile ! \nComme dans les plus grands stades\, vous pouvez choisir votre placement libres ou privatisés et découvrir nos différentes prestations afin de rendre ce moment de partage unique. Pour notre offre de privatisation\, faites votre demande directement à nos équipes !\n \n–             Demande  privatisation de tables
URL:https://iconic-club.com/evenement/coupe-du-monde-quart-de-finale/
CATEGORIES:Coupe du monde 2022
END:VEVENT
BEGIN:VEVENT
DTSTART;TZID=Europe/Paris:20221218T150000
DTEND;TZID=Europe/Paris:20221218T193000
DTSTAMP:20260423T002350
CREATED:20221214T231859Z
LAST-MODIFIED:20230224T191926Z
UID:2035-1671375600-1671391800@iconic-club.com
SUMMARY:COUPE DU MONDE  -  FRANCE vs ARGENTINE - Finale
DESCRIPTION:Coupe du monde 2022 : À la quête de la 3ème étoile ! \nComme dans les plus grands stades\, vous pouvez choisir votre placement libres ou privatisés et découvrir nos différentes prestations afin de rendre ce moment de partage unique. Pour notre offre de privatisation\, faites votre demande directement à nos équipes !\n\n  \n–             Demande  privatisation de tables
URL:https://iconic-club.com/evenement/coupe-du-monde-2022-france-vs-argentine/
CATEGORIES:Coupe du monde 2022
END:VEVENT
END:VCALENDAR