BEGIN:VCALENDAR
VERSION:2.0
PRODID:-//Iconic Club - ECPv6.10.0//NONSGML v1.0//EN
CALSCALE:GREGORIAN
METHOD:PUBLISH
X-WR-CALNAME:Iconic Club
X-ORIGINAL-URL:https://iconic-club.com
X-WR-CALDESC:Évènements pour Iconic Club
REFRESH-INTERVAL;VALUE=DURATION:PT1H
X-Robots-Tag:noindex
X-PUBLISHED-TTL:PT1H
BEGIN:VTIMEZONE
TZID:Europe/Paris
BEGIN:DAYLIGHT
TZOFFSETFROM:+0100
TZOFFSETTO:+0200
TZNAME:CEST
DTSTART:20220327T010000
END:DAYLIGHT
BEGIN:STANDARD
TZOFFSETFROM:+0200
TZOFFSETTO:+0100
TZNAME:CET
DTSTART:20221030T010000
END:STANDARD
END:VTIMEZONE
BEGIN:VEVENT
DTSTART;TZID=Europe/Paris:20221122T180000
DTEND;TZID=Europe/Paris:20221123T020000
DTSTAMP:20260423T014820
CREATED:20221103T220724Z
LAST-MODIFIED:20230224T191716Z
UID:86-1669140000-1669168800@iconic-club.com
SUMMARY:COUPE DU MONDE - FRANCE vs AUSTRALIE - Inauguration
DESCRIPTION:Coupe du monde 2022 : À la quête de la 3ème étoile ! \nComme dans les plus grands stades\, vous pouvez choisir vos places libres\, vos espaces privatisés\, vos espaces loges et découvrir nos différentes prestations afin de rendre ce moment de partage unique. \nPour nos offres de privatisations\, faites votre demande directement à nos équipes ! \n  \n 
URL:https://iconic-club.com/evenement/france-vs-australie/
CATEGORIES:Coupe du monde 2022
END:VEVENT
END:VCALENDAR