BEGIN:VCALENDAR
VERSION:2.0
PRODID:-//Iconic Club - ECPv6.10.0//NONSGML v1.0//EN
CALSCALE:GREGORIAN
METHOD:PUBLISH
X-ORIGINAL-URL:https://iconic-club.com
X-WR-CALDESC:Évènements pour Iconic Club
REFRESH-INTERVAL;VALUE=DURATION:PT1H
X-Robots-Tag:noindex
X-PUBLISHED-TTL:PT1H
BEGIN:VTIMEZONE
TZID:Europe/Paris
BEGIN:DAYLIGHT
TZOFFSETFROM:+0100
TZOFFSETTO:+0200
TZNAME:CEST
DTSTART:20240331T010000
END:DAYLIGHT
BEGIN:STANDARD
TZOFFSETFROM:+0200
TZOFFSETTO:+0100
TZNAME:CET
DTSTART:20241027T010000
END:STANDARD
END:VTIMEZONE
BEGIN:VEVENT
DTSTART;TZID=Europe/Paris:20240331T190000
DTEND;TZID=Europe/Paris:20240331T190000
DTSTAMP:20260420T055945
CREATED:20240314T154445Z
LAST-MODIFIED:20240314T161239Z
UID:3328-1711911600-1711911600@iconic-club.com
SUMMARY:LE CLASSICO AU GRAND REX
DESCRIPTION:Iconic Club présente : Box Office Iconic \nLe 31 mars\, préparez-vous à vivre un face-à-face électrisant au Grand Rex\, le plus beau cinéma du monde ! Rejoignez-nous pour le choc du championnat de France de Ligue 1 entre l’Olympique de Marseille et le Paris Saint Germain. Un événement sportif exceptionnel à vivre sur grand écran dans une salle de projection. 🎬 \nRéservez dès maintenant votre place au Box Office Iconic pour soutenir votre équipe dans le cadre majestueux d’une salle de cinéma 🎟️ . \nDes animations\, des cadeaux à gagner\, des intervenants sportifs… On vous prépare une ambiance Iconic. \nDimanche 31 Mars 2024 à partir de 19h\nLe Grand Rex\, Paris\nSalle Infinite
URL:https://iconic-club.com/evenement/le-classico-au-grand-rex/
LOCATION:Privé : Grand Rex\, 1 Bd Poissonnière\, Paris\, 75002\, France
CATEGORIES:Championnat de France de football
ATTACH;FMTTYPE=image/jpeg:https://iconic-club.com/wp-content/uploads/2024/03/Affiche-4_page-0001-scaled.jpg
END:VEVENT
END:VCALENDAR